BEGIN:VCALENDAR
VERSION:2.0
PRODID:-//Lansmans Bungalow Colony - ECPv5.0.2.1//NONSGML v1.0//EN
CALSCALE:GREGORIAN
METHOD:PUBLISH
X-WR-CALNAME:Lansmans Bungalow Colony
X-ORIGINAL-URL:https://lansmansbungalowcolony.com
X-WR-CALDESC:Events for Lansmans Bungalow Colony
BEGIN:VTIMEZONE
TZID:America/New_York
BEGIN:DAYLIGHT
TZOFFSETFROM:-0500
TZOFFSETTO:-0400
TZNAME:EDT
DTSTART:20190310T070000
END:DAYLIGHT
BEGIN:STANDARD
TZOFFSETFROM:-0400
TZOFFSETTO:-0500
TZNAME:EST
DTSTART:20191103T060000
END:STANDARD
END:VTIMEZONE
BEGIN:VEVENT
DTSTART;VALUE=DATE:20190510
DTEND;VALUE=DATE:20190512
DTSTAMP:20260423T150549
CREATED:20190915T152616Z
LAST-MODIFIED:20190915T171357Z
UID:1536-1557453600-1557539999@lansmansbungalowcolony.com
SUMMARY:Opening Day 2019
DESCRIPTION:2019 Lansman’s Opening Day “35th Year” as a Co-Op \n
URL:https://lansmansbungalowcolony.com/event/opening-day-2019/
LOCATION:Lansman’s Bungalow Colony\, 103 Murphy Road\, Woodbourne\, NY\, 12788\, United States
ATTACH;FMTTYPE=image/jpeg:https://lansmansbungalowcolony.com/wp-content/uploads/11130393_819012198180846_4973233415622556394_o.jpg
END:VEVENT
END:VCALENDAR